BEGIN:VCALENDAR
VERSION:2.0
PRODID:-//Norderstedt Marketing e.V. - ECPv6.15.20//NONSGML v1.0//EN
CALSCALE:GREGORIAN
METHOD:PUBLISH
X-WR-CALNAME:Norderstedt Marketing e.V.
X-ORIGINAL-URL:https://norderstedt-marketing.de
X-WR-CALDESC:Veranstaltungen für Norderstedt Marketing e.V.
REFRESH-INTERVAL;VALUE=DURATION:PT1H
X-Robots-Tag:noindex
X-PUBLISHED-TTL:PT1H
BEGIN:VTIMEZONE
TZID:Europe/Berlin
BEGIN:DAYLIGHT
TZOFFSETFROM:+0100
TZOFFSETTO:+0200
TZNAME:CEST
DTSTART:20240331T010000
END:DAYLIGHT
BEGIN:STANDARD
TZOFFSETFROM:+0200
TZOFFSETTO:+0100
TZNAME:CET
DTSTART:20241027T010000
END:STANDARD
BEGIN:DAYLIGHT
TZOFFSETFROM:+0100
TZOFFSETTO:+0200
TZNAME:CEST
DTSTART:20250330T010000
END:DAYLIGHT
BEGIN:STANDARD
TZOFFSETFROM:+0200
TZOFFSETTO:+0100
TZNAME:CET
DTSTART:20251026T010000
END:STANDARD
BEGIN:DAYLIGHT
TZOFFSETFROM:+0100
TZOFFSETTO:+0200
TZNAME:CEST
DTSTART:20260329T010000
END:DAYLIGHT
BEGIN:STANDARD
TZOFFSETFROM:+0200
TZOFFSETTO:+0100
TZNAME:CET
DTSTART:20261025T010000
END:STANDARD
END:VTIMEZONE
BEGIN:VEVENT
DTSTART;TZID=Europe/Berlin:20250728T170000
DTEND;TZID=Europe/Berlin:20250728T190000
DTSTAMP:20260421T144520
CREATED:20250930T115518Z
LAST-MODIFIED:20250930T115609Z
UID:10420-1753722000-1753729200@norderstedt-marketing.de
SUMMARY:NoMa vor Ort beim FC Eintracht Norderstedt
DESCRIPTION:Zu Gast bei FC Eintracht Norderstedt vor dem Pokalspiel gegen den FC St. Pauli. \nWir laden Sie ein\, einen Blick hinter die Kulissen zu werfen. Erfahren Sie  wie sich der Verein vorbereitet\, was es mit der Mannschaft macht\, im absehbar ausverkauften Millerntor vor 30.000 Leuten zu spielen und warum nicht in Norderstedt\, wo wir doch Heimrecht haben? \n 
URL:https://norderstedt-marketing.de/event/noma-vor-ort-beim-fc-eintracht-norderstedt/
ATTACH;FMTTYPE=image/png:https://norderstedt-marketing.de/wp-content/uploads/2025/09/20250728_NoMa-vor-Ort_DSC_5850.png
END:VEVENT
END:VCALENDAR